BEGIN:VCALENDAR
VERSION:2.0
PRODID:-//Sterling Tech Solutions - ECPv6.15.16//NONSGML v1.0//EN
CALSCALE:GREGORIAN
METHOD:PUBLISH
X-WR-CALNAME:Sterling Tech Solutions
X-ORIGINAL-URL:https://www.sterlingtechsolutions.com
X-WR-CALDESC:Events for Sterling Tech Solutions
REFRESH-INTERVAL;VALUE=DURATION:PT1H
X-Robots-Tag:noindex
X-PUBLISHED-TTL:PT1H
BEGIN:VTIMEZONE
TZID:UTC
BEGIN:STANDARD
TZOFFSETFROM:+0000
TZOFFSETTO:+0000
TZNAME:UTC
DTSTART:20240101T000000
END:STANDARD
END:VTIMEZONE
BEGIN:VEVENT
DTSTART;TZID=UTC:20250405T163000
DTEND;TZID=UTC:20250405T190000
DTSTAMP:20260423T201327
CREATED:20230111T041044Z
LAST-MODIFIED:20260321T115454Z
UID:261-1743870600-1743879600@www.sterlingtechsolutions.com
SUMMARY:UX/UI & Product Management Free Taster
DESCRIPTION:New Course Launch
URL:https://www.sterlingtechsolutions.com/event/ux-ui-product-management-free-taster/
LOCATION:Remote
ATTACH;FMTTYPE=image/jpeg:https://www.sterlingtechsolutions.com/wp-content/uploads/2023/01/uxui.jpg
END:VEVENT
BEGIN:VEVENT
DTSTART;TZID=UTC:20250301T100000
DTEND;TZID=UTC:20250405T170000
DTSTAMP:20260423T201327
CREATED:20230111T041159Z
LAST-MODIFIED:20260321T115616Z
UID:263-1740823200-1743872400@www.sterlingtechsolutions.com
SUMMARY:Business Analysis Mastery Skills Workshop London
DESCRIPTION:Practical Workshop Mastering Business Process Models Wireframing/Prototyping with Industry Tools and Techniques \nHow to Navigate and use Gliffy Diagramming Tool \nMastering Online Collaboration Tools for Remote Working \nBonus – IIBA BABOK Guide & Portfolio Workbook
URL:https://www.sterlingtechsolutions.com/event/business-analysis-mastery-skills-workshop2/
LOCATION:London\, London\, United Kingdom
ATTACH;FMTTYPE=image/jpeg:https://www.sterlingtechsolutions.com/wp-content/uploads/2023/01/ba-event.jpg
END:VEVENT
END:VCALENDAR